BEGIN:VCALENDAR
VERSION:2.0
PRODID:-//DMOJ//NONSGML Contests Calendar//
BEGIN:VEVENT
SUMMARY:SQRT Contest #01
DTSTART:20241027T130000Z
DTEND:20241027T153000Z
DTSTAMP:20260419T132336Z
UID:contest-001@v2ray.quangtrioj.edu.vn
LOCATION:https://v2ray.quangtrioj.edu.vn/contest/001
END:VEVENT
BEGIN:VEVENT
SUMMARY:SQRT OI 2024 - Ngày thi thứ nhất
DTSTART:20241115T130000Z
DTEND:20241115T161500Z
DTSTAMP:20260419T132336Z
UID:contest-002@v2ray.quangtrioj.edu.vn
LOCATION:https://v2ray.quangtrioj.edu.vn/contest/002
END:VEVENT
BEGIN:VEVENT
SUMMARY:SQRT OI 2024 - Ngày thi thứ hai
DTSTART:20241116T130000Z
DTEND:20241116T161500Z
DTSTAMP:20260419T132336Z
UID:contest-003@v2ray.quangtrioj.edu.vn
LOCATION:https://v2ray.quangtrioj.edu.vn/contest/003
END:VEVENT
BEGIN:VEVENT
SUMMARY:CSES - Introductory Problems
DTSTART:20241115T050000Z
DTEND:20241129T050000Z
DTSTAMP:20260419T132336Z
UID:contest-cses_1@v2ray.quangtrioj.edu.vn
LOCATION:https://v2ray.quangtrioj.edu.vn/contest/cses_1
END:VEVENT
BEGIN:VEVENT
SUMMARY:SQRT Contest #02
DTSTART:20241207T130000Z
DTEND:20241207T170000Z
DTSTAMP:20260419T132336Z
UID:contest-004@v2ray.quangtrioj.edu.vn
LOCATION:https://v2ray.quangtrioj.edu.vn/contest/004
END:VEVENT
BEGIN:VEVENT
SUMMARY:CSES - Sorting and Searching
DTSTART:20241130T130000Z
DTEND:20241212T130000Z
DTSTAMP:20260419T132336Z
UID:contest-cses_2@v2ray.quangtrioj.edu.vn
LOCATION:https://v2ray.quangtrioj.edu.vn/contest/cses_2
END:VEVENT
BEGIN:VEVENT
SUMMARY:Thi thử HSG 2025 - Ngày 1
DTSTART:20250122T130000Z
DTEND:20250122T153000Z
DTSTAMP:20260419T132336Z
UID:contest-006@v2ray.quangtrioj.edu.vn
LOCATION:https://v2ray.quangtrioj.edu.vn/contest/006
END:VEVENT
BEGIN:VEVENT
SUMMARY:Thi thử HSG 2025 - Ngày 3
DTSTART:20250124T130000Z
DTEND:20250124T153000Z
DTSTAMP:20260419T132336Z
UID:contest-008@v2ray.quangtrioj.edu.vn
LOCATION:https://v2ray.quangtrioj.edu.vn/contest/008
END:VEVENT
BEGIN:VEVENT
SUMMARY:CSES - Dynamic Programming
DTSTART:20241227T070000Z
DTEND:20250110T070000Z
DTSTAMP:20260419T132336Z
UID:contest-cses_3@v2ray.quangtrioj.edu.vn
LOCATION:https://v2ray.quangtrioj.edu.vn/contest/cses_3
END:VEVENT
BEGIN:VEVENT
SUMMARY:SQRT Contest #03 - Happy New Year 2025
DTSTART:20250104T123000Z
DTEND:20250104T150000Z
DTSTAMP:20260419T132336Z
UID:contest-005@v2ray.quangtrioj.edu.vn
LOCATION:https://v2ray.quangtrioj.edu.vn/contest/005
END:VEVENT
BEGIN:VEVENT
SUMMARY:SQRTOJ Educational Contest #01: Kỳ thi Học sinh giỏi khối 
 12 thành phố Hà Nội 2025 [Test tự sinh]
DTSTART:20250108T150000Z
DTEND:20250121T150000Z
DTSTAMP:20260419T132336Z
UID:contest-edu001@v2ray.quangtrioj.edu.vn
LOCATION:https://v2ray.quangtrioj.edu.vn/contest/edu001
END:VEVENT
BEGIN:VEVENT
SUMMARY:Thi thử HSG 2025 - Ngày 6
DTSTART:20250127T131500Z
DTEND:20250127T154500Z
DTSTAMP:20260419T132336Z
UID:contest-011@v2ray.quangtrioj.edu.vn
LOCATION:https://v2ray.quangtrioj.edu.vn/contest/011
END:VEVENT
BEGIN:VEVENT
SUMMARY:Thi thử HSG 2025 - Ngày 2
DTSTART:20250123T130000Z
DTEND:20250123T153000Z
DTSTAMP:20260419T132336Z
UID:contest-007@v2ray.quangtrioj.edu.vn
LOCATION:https://v2ray.quangtrioj.edu.vn/contest/007
END:VEVENT
BEGIN:VEVENT
SUMMARY:Thi thử HSG 2025 - Ngày 4
DTSTART:20250125T130000Z
DTEND:20250125T153000Z
DTSTAMP:20260419T132336Z
UID:contest-009@v2ray.quangtrioj.edu.vn
LOCATION:https://v2ray.quangtrioj.edu.vn/contest/009
END:VEVENT
BEGIN:VEVENT
SUMMARY:HSG 11 Bạc Liêu 2025
DTSTART:20250217T060000Z
DTEND:20250217T090000Z
DTSTAMP:20260419T132336Z
UID:contest-hsg11bl25@v2ray.quangtrioj.edu.vn
LOCATION:https://v2ray.quangtrioj.edu.vn/contest/hsg11bl25
END:VEVENT
BEGIN:VEVENT
SUMMARY:Thi thử HSG 2025 - Ngày 5
DTSTART:20250126T130000Z
DTEND:20250126T153000Z
DTSTAMP:20260419T132336Z
UID:contest-010@v2ray.quangtrioj.edu.vn
LOCATION:https://v2ray.quangtrioj.edu.vn/contest/010
END:VEVENT
BEGIN:VEVENT
SUMMARY:Thi thử HSG 2025 - Ngày 7
DTSTART:20250130T130000Z
DTEND:20250130T153000Z
DTSTAMP:20260419T132336Z
UID:contest-012@v2ray.quangtrioj.edu.vn
LOCATION:https://v2ray.quangtrioj.edu.vn/contest/012
END:VEVENT
BEGIN:VEVENT
SUMMARY:Thi thử HSG 2025 - Ngày 8
DTSTART:20250131T133000Z
DTEND:20250131T161500Z
DTSTAMP:20260419T132336Z
UID:contest-013@v2ray.quangtrioj.edu.vn
LOCATION:https://v2ray.quangtrioj.edu.vn/contest/013
END:VEVENT
BEGIN:VEVENT
SUMMARY:Thi thử HSG 2025 - Ngày 9
DTSTART:20250201T130000Z
DTEND:20250201T153000Z
DTSTAMP:20260419T132336Z
UID:contest-014@v2ray.quangtrioj.edu.vn
LOCATION:https://v2ray.quangtrioj.edu.vn/contest/014
END:VEVENT
BEGIN:VEVENT
SUMMARY:Thi thử HSG 2025 - Ngày 10
DTSTART:20250202T130000Z
DTEND:20250202T153000Z
DTSTAMP:20260419T132336Z
UID:contest-015@v2ray.quangtrioj.edu.vn
LOCATION:https://v2ray.quangtrioj.edu.vn/contest/015
END:VEVENT
BEGIN:VEVENT
SUMMARY:SQRT Contest #04
DTSTART:20250301T120000Z
DTEND:20250301T170000Z
DTSTAMP:20260419T132336Z
UID:contest-016@v2ray.quangtrioj.edu.vn
LOCATION:https://v2ray.quangtrioj.edu.vn/contest/016
END:VEVENT
BEGIN:VEVENT
SUMMARY:Kỳ thi Học sinh giỏi khối 9 thành phố Đà Nẵng 2025 
 [Test tự sinh]
DTSTART:20250222T093000Z
DTEND:20250301T093000Z
DTSTAMP:20260419T132336Z
UID:contest-edu002@v2ray.quangtrioj.edu.vn
LOCATION:https://v2ray.quangtrioj.edu.vn/contest/edu002
END:VEVENT
BEGIN:VEVENT
SUMMARY:Giao lưu Tin học trẻ 2025 - Thi thử - Bảng THCS
DTSTART:20250413T130000Z
DTEND:20250413T153000Z
DTSTAMP:20260419T132336Z
UID:contest-017@v2ray.quangtrioj.edu.vn
LOCATION:https://v2ray.quangtrioj.edu.vn/contest/017
END:VEVENT
BEGIN:VEVENT
SUMMARY:Giao lưu Tin học trẻ 2025 - Thi thử - Bảng THPT
DTSTART:20250413T130000Z
DTEND:20250413T160000Z
DTSTAMP:20260419T132336Z
UID:contest-018@v2ray.quangtrioj.edu.vn
LOCATION:https://v2ray.quangtrioj.edu.vn/contest/018
END:VEVENT
BEGIN:VEVENT
SUMMARY:Giao lưu Tin học trẻ 2025 - Tuần 1 - Ngày 1
DTSTART:20250419T130000Z
DTEND:20250419T160000Z
DTSTAMP:20260419T132336Z
UID:contest-019@v2ray.quangtrioj.edu.vn
LOCATION:https://v2ray.quangtrioj.edu.vn/contest/019
END:VEVENT
BEGIN:VEVENT
SUMMARY:Giao lưu Tin học trẻ 2025 - Tuần 1 - Ngày 2
DTSTART:20250420T130000Z
DTEND:20250420T160000Z
DTSTAMP:20260419T132336Z
UID:contest-020@v2ray.quangtrioj.edu.vn
LOCATION:https://v2ray.quangtrioj.edu.vn/contest/020
END:VEVENT
BEGIN:VEVENT
SUMMARY:Giao lưu Tin học trẻ 2025 - Tuần 1 - Ngày 3
DTSTART:20250421T130000Z
DTEND:20250421T160000Z
DTSTAMP:20260419T132336Z
UID:contest-021@v2ray.quangtrioj.edu.vn
LOCATION:https://v2ray.quangtrioj.edu.vn/contest/021
END:VEVENT
BEGIN:VEVENT
SUMMARY:Giao lưu Tin học trẻ 2025 - Tuần 2 - Ngày 1
DTSTART:20250425T130000Z
DTEND:20250425T160000Z
DTSTAMP:20260419T132336Z
UID:contest-022@v2ray.quangtrioj.edu.vn
LOCATION:https://v2ray.quangtrioj.edu.vn/contest/022
END:VEVENT
BEGIN:VEVENT
SUMMARY:Giao lưu Tin học trẻ 2025 - Tuần 2 - Ngày 2
DTSTART:20250426T131500Z
DTEND:20250426T161500Z
DTSTAMP:20260419T132336Z
UID:contest-023@v2ray.quangtrioj.edu.vn
LOCATION:https://v2ray.quangtrioj.edu.vn/contest/023
END:VEVENT
BEGIN:VEVENT
SUMMARY:Giao lưu Tin học trẻ 2025 - Tuần 2 - Ngày 3
DTSTART:20250427T130000Z
DTEND:20250427T160000Z
DTSTAMP:20260419T132336Z
UID:contest-024@v2ray.quangtrioj.edu.vn
LOCATION:https://v2ray.quangtrioj.edu.vn/contest/024
END:VEVENT
BEGIN:VEVENT
SUMMARY:Giao lưu Tin học trẻ 2025 - Tuần 3 - Ngày 1
DTSTART:20250502T130000Z
DTEND:20250502T160000Z
DTSTAMP:20260419T132336Z
UID:contest-025@v2ray.quangtrioj.edu.vn
LOCATION:https://v2ray.quangtrioj.edu.vn/contest/025
END:VEVENT
BEGIN:VEVENT
SUMMARY:Giao lưu Tin học trẻ 2025 - Tuần 3 - Ngày 2
DTSTART:20250503T130000Z
DTEND:20250503T160000Z
DTSTAMP:20260419T132336Z
UID:contest-026@v2ray.quangtrioj.edu.vn
LOCATION:https://v2ray.quangtrioj.edu.vn/contest/026
END:VEVENT
BEGIN:VEVENT
SUMMARY:Giao lưu Tin học trẻ 2025 - Tuần 3 - Ngày 3
DTSTART:20250504T140000Z
DTEND:20250504T170000Z
DTSTAMP:20260419T132336Z
UID:contest-027@v2ray.quangtrioj.edu.vn
LOCATION:https://v2ray.quangtrioj.edu.vn/contest/027
END:VEVENT
BEGIN:VEVENT
SUMMARY:Kỳ thi Tuyển sinh khối 10 chuyên Tin Vĩnh Phúc 2025 [Test
  tự sinh]
DTSTART:20250603T091500Z
DTEND:20250610T093000Z
DTSTAMP:20260419T132336Z
UID:contest-edu003@v2ray.quangtrioj.edu.vn
LOCATION:https://v2ray.quangtrioj.edu.vn/contest/edu003
END:VEVENT
BEGIN:VEVENT
SUMMARY:Kỳ thi Tuyển sinh khối 10 chuyên Tin Đà Nẵng 2025 [Test
  tự sinh]
DTSTART:20250604T045500Z
DTEND:20250611T050000Z
DTSTAMP:20260419T132336Z
UID:contest-edu004@v2ray.quangtrioj.edu.vn
LOCATION:https://v2ray.quangtrioj.edu.vn/contest/edu004
END:VEVENT
BEGIN:VEVENT
SUMMARY:Kỳ thi Tuyển sinh khối 10 chuyên Tin Lâm Đồng 2025 [Tes
 t tự sinh]
DTSTART:20250604T080000Z
DTEND:20250611T080000Z
DTSTAMP:20260419T132336Z
UID:contest-edu005@v2ray.quangtrioj.edu.vn
LOCATION:https://v2ray.quangtrioj.edu.vn/contest/edu005
END:VEVENT
BEGIN:VEVENT
SUMMARY:Kỳ thi Tuyển sinh khối 10 chuyên Tin Hà Tĩnh 2025 [Test t
 ự sinh]
DTSTART:20250604T134000Z
DTEND:20250611T140000Z
DTSTAMP:20260419T132336Z
UID:contest-edu006@v2ray.quangtrioj.edu.vn
LOCATION:https://v2ray.quangtrioj.edu.vn/contest/edu006
END:VEVENT
BEGIN:VEVENT
SUMMARY:Kỳ thi Tuyển sinh khối 10 chuyên Tin Quảng Nam 2025 [Test
  tự sinh]
DTSTART:20250605T044500Z
DTEND:20250612T050000Z
DTSTAMP:20260419T132336Z
UID:contest-edu007@v2ray.quangtrioj.edu.vn
LOCATION:https://v2ray.quangtrioj.edu.vn/contest/edu007
END:VEVENT
BEGIN:VEVENT
SUMMARY:Kỳ thi Tuyển sinh khối 10 chuyên Tin Quảng Bình 2025 [Te
 st tự sinh]
DTSTART:20250605T061500Z
DTEND:20250612T061500Z
DTSTAMP:20260419T132336Z
UID:contest-edu008@v2ray.quangtrioj.edu.vn
LOCATION:https://v2ray.quangtrioj.edu.vn/contest/edu008
END:VEVENT
BEGIN:VEVENT
SUMMARY:Kỳ thi Tuyển sinh khối 10 chuyên Tin Bắc Giang 2025 [Test
  tự sinh]
DTSTART:20250605T120500Z
DTEND:20250612T120500Z
DTSTAMP:20260419T132336Z
UID:contest-edu009@v2ray.quangtrioj.edu.vn
LOCATION:https://v2ray.quangtrioj.edu.vn/contest/edu009
END:VEVENT
BEGIN:VEVENT
SUMMARY:Kỳ thi Tuyển sinh khối 10 chuyên Tin Phú Thọ 2025 [Test 
 tự sinh]
DTSTART:20250605T163000Z
DTEND:20250612T163000Z
DTSTAMP:20260419T132336Z
UID:contest-edu010@v2ray.quangtrioj.edu.vn
LOCATION:https://v2ray.quangtrioj.edu.vn/contest/edu010
END:VEVENT
BEGIN:VEVENT
SUMMARY:Kỳ thi Tuyển sinh khối 10 chuyên Tin Quảng Ngãi 2025 [Te
 st tự sinh]
DTSTART:20250606T102500Z
DTEND:20250613T102500Z
DTSTAMP:20260419T132336Z
UID:contest-edu011@v2ray.quangtrioj.edu.vn
LOCATION:https://v2ray.quangtrioj.edu.vn/contest/edu011
END:VEVENT
BEGIN:VEVENT
SUMMARY:Kỳ thi Tuyển sinh khối 10 chuyên Tin Đắk Nông 2025 [Tes
 t tự sinh]
DTSTART:20250606T115000Z
DTEND:20250613T050000Z
DTSTAMP:20260419T132336Z
UID:contest-edu012@v2ray.quangtrioj.edu.vn
LOCATION:https://v2ray.quangtrioj.edu.vn/contest/edu012
END:VEVENT
BEGIN:VEVENT
SUMMARY:Kỳ thi Tuyển sinh khối 10 chuyên Tin Tiền Giang 2025 [Tes
 t tự sinh]
DTSTART:20250606T120000Z
DTEND:20250613T120000Z
DTSTAMP:20260419T132336Z
UID:contest-edu013@v2ray.quangtrioj.edu.vn
LOCATION:https://v2ray.quangtrioj.edu.vn/contest/edu013
END:VEVENT
BEGIN:VEVENT
SUMMARY:Kỳ thi Tuyển sinh khối 10 chuyên Tin Nghệ An 2025 [Test t
 ự sinh]
DTSTART:20250606T124500Z
DTEND:20250613T130000Z
DTSTAMP:20260419T132336Z
UID:contest-edu015@v2ray.quangtrioj.edu.vn
LOCATION:https://v2ray.quangtrioj.edu.vn/contest/edu015
END:VEVENT
BEGIN:VEVENT
SUMMARY:Kỳ thi Tuyển sinh khối 10 chuyên Tin Đắk Lắk 2025 [Tes
 t tự sinh]
DTSTART:20250606T140000Z
DTEND:20250613T140000Z
DTSTAMP:20260419T132336Z
UID:contest-edu014@v2ray.quangtrioj.edu.vn
LOCATION:https://v2ray.quangtrioj.edu.vn/contest/edu014
END:VEVENT
BEGIN:VEVENT
SUMMARY:Kỳ thi Tuyển sinh khối 10 chuyên Tin Thái Nguyên 2025 [Te
 st tự sinh]
DTSTART:20250606T170000Z
DTEND:20250613T170000Z
DTSTAMP:20260419T132336Z
UID:contest-edu016@v2ray.quangtrioj.edu.vn
LOCATION:https://v2ray.quangtrioj.edu.vn/contest/edu016
END:VEVENT
BEGIN:VEVENT
SUMMARY:Tổng hợp đề thi vòng loại TLEOJ Cup 2024
DTSTART:20250612T170000Z
DTEND:20250619T170000Z
DTSTAMP:20260419T132336Z
UID:contest-tleoj_cup_24@v2ray.quangtrioj.edu.vn
LOCATION:https://v2ray.quangtrioj.edu.vn/contest/tleoj_cup_24
END:VEVENT
BEGIN:VEVENT
SUMMARY:QHHOJ x SQRT Cup 2025 - Vòng loại thứ nhất - Bảng Chuyên
DTSTART:20250705T130000Z
DTEND:20250705T153000Z
DTSTAMP:20260419T132336Z
UID:contest-028@v2ray.quangtrioj.edu.vn
LOCATION:https://v2ray.quangtrioj.edu.vn/contest/028
END:VEVENT
BEGIN:VEVENT
SUMMARY:QHHOJ x SQRT Cup 2025 - Vòng loại thứ hai - Bảng Chuyên
DTSTART:20250719T130000Z
DTEND:20250719T161500Z
DTSTAMP:20260419T132336Z
UID:contest-029@v2ray.quangtrioj.edu.vn
LOCATION:https://v2ray.quangtrioj.edu.vn/contest/029
END:VEVENT
BEGIN:VEVENT
SUMMARY:QHHOJ x SQRT Cup 2025 - Vòng loại thứ hai - Bảng Chuyên
DTSTART:20250719T130000Z
DTEND:20250719T161500Z
DTSTAMP:20260419T132336Z
UID:contest-029_clone@v2ray.quangtrioj.edu.vn
LOCATION:https://v2ray.quangtrioj.edu.vn/contest/029_clone
END:VEVENT
BEGIN:VEVENT
SUMMARY:25olpsv
DTSTART:20250918T080000Z
DTEND:20250925T080000Z
DTSTAMP:20260419T132336Z
UID:contest-25olpsv@v2ray.quangtrioj.edu.vn
LOCATION:https://v2ray.quangtrioj.edu.vn/contest/25olpsv
END:VEVENT
BEGIN:VEVENT
SUMMARY:25olpsv_w2
DTSTART:20250924T120000Z
DTEND:20250924T160000Z
DTSTAMP:20260419T132336Z
UID:contest-25olpsv_w2@v2ray.quangtrioj.edu.vn
LOCATION:https://v2ray.quangtrioj.edu.vn/contest/25olpsv_w2
END:VEVENT
BEGIN:VEVENT
SUMMARY:SQRT Contest #05
DTSTART:20251011T130000Z
DTEND:20251011T160000Z
DTSTAMP:20260419T132336Z
UID:contest-030@v2ray.quangtrioj.edu.vn
LOCATION:https://v2ray.quangtrioj.edu.vn/contest/030
END:VEVENT
BEGIN:VEVENT
SUMMARY:25olpsv_w3
DTSTART:20251001T123000Z
DTEND:20251001T153000Z
DTSTAMP:20260419T132336Z
UID:contest-25olpsv_w3@v2ray.quangtrioj.edu.vn
LOCATION:https://v2ray.quangtrioj.edu.vn/contest/25olpsv_w3
END:VEVENT
BEGIN:VEVENT
SUMMARY:25olpsv_w4
DTSTART:20251009T130000Z
DTEND:20251016T130000Z
DTSTAMP:20260419T132336Z
UID:contest-25olpsv_w4@v2ray.quangtrioj.edu.vn
LOCATION:https://v2ray.quangtrioj.edu.vn/contest/25olpsv_w4
END:VEVENT
BEGIN:VEVENT
SUMMARY:25olpsv_w5
DTSTART:20251016T060000Z
DTEND:20251023T060000Z
DTSTAMP:20260419T132336Z
UID:contest-25olpsv_w5@v2ray.quangtrioj.edu.vn
LOCATION:https://v2ray.quangtrioj.edu.vn/contest/25olpsv_w5
END:VEVENT
BEGIN:VEVENT
SUMMARY:25olpsv_w6
DTSTART:20251022T120000Z
DTEND:20251105T120000Z
DTSTAMP:20260419T132336Z
UID:contest-25olpsv_w6@v2ray.quangtrioj.edu.vn
LOCATION:https://v2ray.quangtrioj.edu.vn/contest/25olpsv_w6
END:VEVENT
BEGIN:VEVENT
SUMMARY:25olpsv_w8
DTSTART:20251105T120000Z
DTEND:20251203T120000Z
DTSTAMP:20260419T132336Z
UID:contest-25olpsv_w8@v2ray.quangtrioj.edu.vn
LOCATION:https://v2ray.quangtrioj.edu.vn/contest/25olpsv_w8
END:VEVENT
BEGIN:VEVENT
SUMMARY:SQRT Contest #06 [ICPC Rules\, Prized]
DTSTART:20251206T120000Z
DTEND:20251206T170000Z
DTSTAMP:20260419T132336Z
UID:contest-031@v2ray.quangtrioj.edu.vn
LOCATION:https://v2ray.quangtrioj.edu.vn/contest/031
END:VEVENT
BEGIN:VEVENT
SUMMARY:SQRT OI Contest - Thi thử HSGQG Tin học 2026
DTSTART:20251218T120000Z
DTEND:20251219T151500Z
DTSTAMP:20260419T132336Z
UID:contest-032@v2ray.quangtrioj.edu.vn
LOCATION:https://v2ray.quangtrioj.edu.vn/contest/032
END:VEVENT
BEGIN:VEVENT
SUMMARY:25olpsv_final
DTSTART:20251203T120000Z
DTEND:20251203T151500Z
DTSTAMP:20260419T132336Z
UID:contest-25olpsv_final@v2ray.quangtrioj.edu.vn
LOCATION:https://v2ray.quangtrioj.edu.vn/contest/25olpsv_final
END:VEVENT
BEGIN:VEVENT
SUMMARY:testprevoi_6_12_2025
DTSTART:20251206T030000Z
DTEND:20251212T050000Z
DTSTAMP:20260419T132336Z
UID:contest-testprevoi_6_12@v2ray.quangtrioj.edu.vn
LOCATION:https://v2ray.quangtrioj.edu.vn/contest/testprevoi_6_12
END:VEVENT
BEGIN:VEVENT
SUMMARY:testprevoi_7_12_2025
DTSTART:20251207T050000Z
DTEND:20251214T050000Z
DTSTAMP:20260419T132336Z
UID:contest-testprevoi_7_12@v2ray.quangtrioj.edu.vn
LOCATION:https://v2ray.quangtrioj.edu.vn/contest/testprevoi_7_12
END:VEVENT
BEGIN:VEVENT
SUMMARY:cơ bản
DTSTART:20251208T140000Z
DTEND:20251209T140000Z
DTSTAMP:20260419T132336Z
UID:contest-basic@v2ray.quangtrioj.edu.vn
LOCATION:https://v2ray.quangtrioj.edu.vn/contest/basic
END:VEVENT
BEGIN:VEVENT
SUMMARY:test_1211
DTSTART:20251212T120000Z
DTEND:20251218T120000Z
DTSTAMP:20260419T132336Z
UID:contest-test_ngay_12_11@v2ray.quangtrioj.edu.vn
LOCATION:https://v2ray.quangtrioj.edu.vn/contest/test_ngay_12_11
END:VEVENT
BEGIN:VEVENT
SUMMARY:test13_11
DTSTART:20251213T070000Z
DTEND:20251219T120000Z
DTSTAMP:20260419T132336Z
UID:contest-test13__11@v2ray.quangtrioj.edu.vn
LOCATION:https://v2ray.quangtrioj.edu.vn/contest/test13__11
END:VEVENT
BEGIN:VEVENT
SUMMARY:cơ bản 2
DTSTART:20251215T120000Z
DTEND:20251216T120000Z
DTSTAMP:20260419T132336Z
UID:contest-basic2@v2ray.quangtrioj.edu.vn
LOCATION:https://v2ray.quangtrioj.edu.vn/contest/basic2
END:VEVENT
BEGIN:VEVENT
SUMMARY:Thi thử HSG 2026 - Ngày 2
DTSTART:20260211T130000Z
DTEND:20260211T153000Z
DTSTAMP:20260419T132336Z
UID:contest-034@v2ray.quangtrioj.edu.vn
LOCATION:https://v2ray.quangtrioj.edu.vn/contest/034
END:VEVENT
BEGIN:VEVENT
SUMMARY:Thi thử HSG 2026 - Ngày 1
DTSTART:20260210T130000Z
DTEND:20260210T153000Z
DTSTAMP:20260419T132336Z
UID:contest-033@v2ray.quangtrioj.edu.vn
LOCATION:https://v2ray.quangtrioj.edu.vn/contest/033
END:VEVENT
BEGIN:VEVENT
SUMMARY:Thi thử HSG 2026 - Ngày 3
DTSTART:20260212T130000Z
DTEND:20260212T153000Z
DTSTAMP:20260419T132336Z
UID:contest-035@v2ray.quangtrioj.edu.vn
LOCATION:https://v2ray.quangtrioj.edu.vn/contest/035
END:VEVENT
BEGIN:VEVENT
SUMMARY:Thi thử HSG 2026 - Ngày 4
DTSTART:20260213T130000Z
DTEND:20260213T153000Z
DTSTAMP:20260419T132336Z
UID:contest-036@v2ray.quangtrioj.edu.vn
LOCATION:https://v2ray.quangtrioj.edu.vn/contest/036
END:VEVENT
BEGIN:VEVENT
SUMMARY:csptst26
DTSTART:20260302T010000Z
DTEND:20260327T080000Z
DTSTAMP:20260419T132336Z
UID:contest-csptst26@v2ray.quangtrioj.edu.vn
LOCATION:https://v2ray.quangtrioj.edu.vn/contest/csptst26
END:VEVENT
BEGIN:VEVENT
SUMMARY:a quang dit bu programming league 2026
DTSTART:20260401T123000Z
DTEND:20260401T144500Z
DTSTAMP:20260419T132336Z
UID:contest-aquangditbu@v2ray.quangtrioj.edu.vn
LOCATION:https://v2ray.quangtrioj.edu.vn/contest/aquangditbu
END:VEVENT
BEGIN:VEVENT
SUMMARY:hptst26
DTSTART:20260317T050000Z
DTEND:20260327T050000Z
DTSTAMP:20260419T132336Z
UID:contest-hptst26@v2ray.quangtrioj.edu.vn
LOCATION:https://v2ray.quangtrioj.edu.vn/contest/hptst26
END:VEVENT
BEGIN:VEVENT
SUMMARY:[Chi đoàn 11 Tin\, THPT Chuyên Lê Quý Đôn Quảng Trị] - 
 Thi thử TS10 2026\, lần thứ nhất
DTSTART:20260405T010000Z
DTEND:20260405T033500Z
DTSTAMP:20260419T132336Z
UID:contest-037@v2ray.quangtrioj.edu.vn
LOCATION:https://v2ray.quangtrioj.edu.vn/contest/037
END:VEVENT
BEGIN:VEVENT
SUMMARY:hpprevoi27
DTSTART:20260328T170000Z
DTEND:20261128T170000Z
DTSTAMP:20260419T132336Z
UID:contest-hpprevoi27@v2ray.quangtrioj.edu.vn
LOCATION:https://v2ray.quangtrioj.edu.vn/contest/hpprevoi27
END:VEVENT
BEGIN:VEVENT
SUMMARY:Olympic 30 tháng 4 2026 - Khối 10 [Test tự sinh]
DTSTART:20260404T042000Z
DTEND:20260411T060000Z
DTSTAMP:20260419T132336Z
UID:contest-edu017@v2ray.quangtrioj.edu.vn
LOCATION:https://v2ray.quangtrioj.edu.vn/contest/edu017
END:VEVENT
BEGIN:VEVENT
SUMMARY:Olympic 30 tháng 4 2026 - Khối 11 [Test tự sinh]
DTSTART:20260404T084000Z
DTEND:20260411T060000Z
DTSTAMP:20260419T132336Z
UID:contest-edu018@v2ray.quangtrioj.edu.vn
LOCATION:https://v2ray.quangtrioj.edu.vn/contest/edu018
END:VEVENT
BEGIN:VEVENT
SUMMARY:[Chi đoàn 11 Tin\, THPT Chuyên Lê Quý Đôn Quảng Trị] - 
 Thi thử TS10 2026\, lần thứ hai
DTSTART:20260412T010000Z
DTEND:20260412T033500Z
DTSTAMP:20260419T132336Z
UID:contest-prets10_2@v2ray.quangtrioj.edu.vn
LOCATION:https://v2ray.quangtrioj.edu.vn/contest/prets10_2
END:VEVENT
BEGIN:VEVENT
SUMMARY:[Chi đoàn 11 Tin\, THPT Chuyên Lê Quý Đôn Quảng Trị] - 
 Thi thử TS10 2026\, lần thứ ba
DTSTART:20260419T010000Z
DTEND:20260419T033500Z
DTSTAMP:20260419T132336Z
UID:contest-039@v2ray.quangtrioj.edu.vn
LOCATION:https://v2ray.quangtrioj.edu.vn/contest/039
END:VEVENT
BEGIN:VEVENT
SUMMARY:[Chi đoàn 11 Tin\, THPT Chuyên Lê Quý Đôn Quảng Trị] - 
 Thi thử TS10 2026\, lần thứ tư
DTSTART:20260426T010000Z
DTEND:20260426T033500Z
DTSTAMP:20260419T132336Z
UID:contest-prets10_4@v2ray.quangtrioj.edu.vn
LOCATION:https://v2ray.quangtrioj.edu.vn/contest/prets10_4
END:VEVENT
BEGIN:VEVENT
SUMMARY:SQRT Cup 2026 - Vòng loại
DTSTART:20260524T030000Z
DTEND:20260524T070000Z
DTSTAMP:20260419T132336Z
UID:contest-041@v2ray.quangtrioj.edu.vn
LOCATION:https://v2ray.quangtrioj.edu.vn/contest/041
END:VEVENT
END:VCALENDAR
